BEGIN:VCALENDAR
VERSION:2.0
PRODID:-//Kloster Stift zum Heiligengrabe - ECPv6.15.20//NONSGML v1.0//EN
CALSCALE:GREGORIAN
METHOD:PUBLISH
X-WR-CALNAME:Kloster Stift zum Heiligengrabe
X-ORIGINAL-URL:https://www.klosterstift-heiligengrabe.de
X-WR-CALDESC:Veranstaltungen für Kloster Stift zum Heiligengrabe
REFRESH-INTERVAL;VALUE=DURATION:PT1H
X-Robots-Tag:noindex
X-PUBLISHED-TTL:PT1H
BEGIN:VTIMEZONE
TZID:Europe/Berlin
BEGIN:DAYLIGHT
TZOFFSETFROM:+0100
TZOFFSETTO:+0200
TZNAME:CEST
DTSTART:20250330T010000
END:DAYLIGHT
BEGIN:STANDARD
TZOFFSETFROM:+0200
TZOFFSETTO:+0100
TZNAME:CET
DTSTART:20251026T010000
END:STANDARD
BEGIN:DAYLIGHT
TZOFFSETFROM:+0100
TZOFFSETTO:+0200
TZNAME:CEST
DTSTART:20260329T010000
END:DAYLIGHT
BEGIN:STANDARD
TZOFFSETFROM:+0200
TZOFFSETTO:+0100
TZNAME:CET
DTSTART:20261025T010000
END:STANDARD
BEGIN:DAYLIGHT
TZOFFSETFROM:+0100
TZOFFSETTO:+0200
TZNAME:CEST
DTSTART:20270328T010000
END:DAYLIGHT
BEGIN:STANDARD
TZOFFSETFROM:+0200
TZOFFSETTO:+0100
TZNAME:CET
DTSTART:20271031T010000
END:STANDARD
END:VTIMEZONE
BEGIN:VEVENT
DTSTART;TZID=Europe/Berlin:20260410T150000
DTEND;TZID=Europe/Berlin:20260412T100000
DTSTAMP:20260421T221825
CREATED:20260107T131457Z
LAST-MODIFIED:20260216T132958Z
UID:10000163-1775833200-1775988000@www.klosterstift-heiligengrabe.de
SUMMARY:"Wo Frieden und Gerechtigkeit sich küssen"- die Dimension der Gerechtigkeit in der Friedensarbeit
DESCRIPTION:Seminar des Nagelkreuz-Zentrums Kloster Stift zum Heiligengrabe\n\n\n\nFrieden und Gerechtigkeit – diese Sehnsucht haben Menschen schon immer vor Gott getragen. Psalm 85 verleiht ihr besonders einprägsam Ausdruck. \n\n\n\nWir wollen danach fragen\, was uns als Nagelkreuzgemeinschaft anspornt\, uns für Frieden und Gerechtigkeit einzusetzen. Welchen Beitrag leistet das Völkerrecht? Und wie können wir hier bei uns in den Konflikten unserer Zeit Gräben überwinden\, aufeinander zugehen\, Konflikte überwinden und Gerechtigkeit wachsen lassen? Wir freuen uns auf das gemeinsame Nachdenken mit Ihnen. \n\n\n\nAn diesem Studientag werden wir auch gemeinsam singen und Übungen zum Lesen biblischer Texte anbieten. \n\n\n\nBeginnFreitag 15:00 Uhr mit StehkaffeeEndeSonntag nach dem FrühstückEinkehrhaus56 €Herberge in der Abtei112 €Haus an der Mauer56 €Verpflegung141 €Tagungsbeitrag40 €Teilnehmerzahlmind. 7\, max. 10LeitungStiftsfrau Dr. Friederike Mussgnug\, BerlinAnmeldung bis zum26.03.2026\n\n\n\n\n\nLeitung im Team gemeinsam mit: \n\n\n\n \n\n\n\n\n\nVeranstaltungsort:\n\n\n\n\n\n\n\n\n\nAnmeldung zur Veranstaltung\n\n\n\n\n\n  \n\n\n\n Name & Vorname (Pflichtfeld)\n \n \n E-Mail-Adresse (Pflichtfeld)\n \n \n PLZ (Pflichtfeld)\n \n \n Ort (Pflichtfeld)\n \n \n Strasse & Hausnummer (Pflichtfeld)\n \n \n Telefonnummer (Pflichtfeld)\n \n \nUnterkunft wählen\n-keine Unterkunft benötigt-Haus an der MauerGästezimmer im Einkehrhaus\n \n Betreff\n \n \n Nachricht (optional)\n \n \nIch akzeptiere die AGB.\nIch akzeptiere die Datenschutzerklärung.
URL:https://www.klosterstift-heiligengrabe.de/seminar/wo-frieden-und-gerechtigkeit-sich-kuessen-die-dimension-der-gerechtigkeit-in-der-friedensarbeit/
LOCATION:Kloster Stift zum Heiligengrabe\, Stiftgelände 1\, Heiligengrabe\, 16909
CATEGORIES:Einkehrtage
ATTACH;FMTTYPE=image/jpeg:https://www.klosterstift-heiligengrabe.de/wp-content/uploads/nagelkreuz.jpg
END:VEVENT
END:VCALENDAR