BEGIN:VCALENDAR
VERSION:2.0
PRODID:-//Kloster Stift zum Heiligengrabe - ECPv6.15.20//NONSGML v1.0//EN
CALSCALE:GREGORIAN
METHOD:PUBLISH
X-ORIGINAL-URL:https://www.klosterstift-heiligengrabe.de
X-WR-CALDESC:Veranstaltungen für Kloster Stift zum Heiligengrabe
REFRESH-INTERVAL;VALUE=DURATION:PT1H
X-Robots-Tag:noindex
X-PUBLISHED-TTL:PT1H
BEGIN:VTIMEZONE
TZID:Europe/Berlin
BEGIN:DAYLIGHT
TZOFFSETFROM:+0100
TZOFFSETTO:+0200
TZNAME:CEST
DTSTART:20250330T010000
END:DAYLIGHT
BEGIN:STANDARD
TZOFFSETFROM:+0200
TZOFFSETTO:+0100
TZNAME:CET
DTSTART:20251026T010000
END:STANDARD
BEGIN:DAYLIGHT
TZOFFSETFROM:+0100
TZOFFSETTO:+0200
TZNAME:CEST
DTSTART:20260329T010000
END:DAYLIGHT
BEGIN:STANDARD
TZOFFSETFROM:+0200
TZOFFSETTO:+0100
TZNAME:CET
DTSTART:20261025T010000
END:STANDARD
BEGIN:DAYLIGHT
TZOFFSETFROM:+0100
TZOFFSETTO:+0200
TZNAME:CEST
DTSTART:20270328T010000
END:DAYLIGHT
BEGIN:STANDARD
TZOFFSETFROM:+0200
TZOFFSETTO:+0100
TZNAME:CET
DTSTART:20271031T010000
END:STANDARD
END:VTIMEZONE
BEGIN:VEVENT
DTSTART;TZID=Europe/Berlin:20260321T100000
DTEND;TZID=Europe/Berlin:20260321T170000
DTSTAMP:20260419T193435
CREATED:20260107T092401Z
LAST-MODIFIED:20260211T095522Z
UID:10000161-1774087200-1774112400@www.klosterstift-heiligengrabe.de
SUMMARY:Der Gottesdienst und seine Elemente
DESCRIPTION:Studientag zur Liturgie\n\n\n\n \n\n\n\nWir laden ein zu einem Erkundungsgang durch den Gottesdienst. Die gottesdienstliche Feier ist durchzogen von Traditionen und uralten Riten. Gemeinsam fragen wir danach\, wie sie entstanden sind und was sie bedeuten. Gebete\, Lieder und Texte haben ihre je eigene Geschichte und sind in eine bestimmte Struktur der Liturgie eingefügt. \n\n\n\nAn diesem Studientag werden wir auch gemeinsam singen und Übungen zum Lesen biblischer Texte anbieten.  \n\n\n\nBeginnSamstag\, 10:00 UhrEndeSamstag\, 17:00 UhrTagungsbeitrag inkl. Verpflegung20 €Teilnehmerzahlmind. 7 – max. 10Anmeldungen bis zum06.02.2026\n\n\n\n\n\n\n\n\n\nLeitung\n\n\n\n\n\n\n\nVeranstaltungsort:\n\n\n\n\n\n\n\n\n\nAnmeldung zur Veranstaltung\n\n\n\n\n\n  \n\n\n\n Name & Vorname (Pflichtfeld)\n \n \n E-Mail-Adresse (Pflichtfeld)\n \n \n PLZ (Pflichtfeld)\n \n \n Ort (Pflichtfeld)\n \n \n Strasse & Hausnummer (Pflichtfeld)\n \n \n Telefonnummer (Pflichtfeld)\n \n \nUnterkunft wählen\n-keine Unterkunft benötigt-Herberge in der AbteiGästezimmer im Einkehrhaus\n \n Betreff\n \n \n Nachricht (optional)\n \n \nIch akzeptiere die AGB.\nIch akzeptiere die Datenschutzerklärung.
URL:https://www.klosterstift-heiligengrabe.de/seminar/der-gottesdienst-und-seine-elemente/
LOCATION:Kloster Stift zum Heiligengrabe\, Stiftgelände 1\, Heiligengrabe\, 16909
CATEGORIES:Einkehrtage
ATTACH;FMTTYPE=image/jpeg:https://www.klosterstift-heiligengrabe.de/wp-content/uploads/heiliggrabkapelle-chorgestuehl.jpg
END:VEVENT
END:VCALENDAR