BEGIN:VCALENDAR
VERSION:2.0
PRODID:-//Kloster Stift zum Heiligengrabe - ECPv6.15.20//NONSGML v1.0//EN
CALSCALE:GREGORIAN
METHOD:PUBLISH
X-WR-CALNAME:Kloster Stift zum Heiligengrabe
X-ORIGINAL-URL:https://www.klosterstift-heiligengrabe.de
X-WR-CALDESC:Veranstaltungen für Kloster Stift zum Heiligengrabe
REFRESH-INTERVAL;VALUE=DURATION:PT1H
X-Robots-Tag:noindex
X-PUBLISHED-TTL:PT1H
BEGIN:VTIMEZONE
TZID:Europe/Berlin
BEGIN:DAYLIGHT
TZOFFSETFROM:+0100
TZOFFSETTO:+0200
TZNAME:CEST
DTSTART:20250330T010000
END:DAYLIGHT
BEGIN:STANDARD
TZOFFSETFROM:+0200
TZOFFSETTO:+0100
TZNAME:CET
DTSTART:20251026T010000
END:STANDARD
BEGIN:DAYLIGHT
TZOFFSETFROM:+0100
TZOFFSETTO:+0200
TZNAME:CEST
DTSTART:20260329T010000
END:DAYLIGHT
BEGIN:STANDARD
TZOFFSETFROM:+0200
TZOFFSETTO:+0100
TZNAME:CET
DTSTART:20261025T010000
END:STANDARD
BEGIN:DAYLIGHT
TZOFFSETFROM:+0100
TZOFFSETTO:+0200
TZNAME:CEST
DTSTART:20270328T010000
END:DAYLIGHT
BEGIN:STANDARD
TZOFFSETFROM:+0200
TZOFFSETTO:+0100
TZNAME:CET
DTSTART:20271031T010000
END:STANDARD
END:VTIMEZONE
BEGIN:VEVENT
DTSTART;TZID=Europe/Berlin:20261009T190000
DTEND;TZID=Europe/Berlin:20261011T150000
DTSTAMP:20260420T010240
CREATED:20260114T101306Z
LAST-MODIFIED:20260310T090131Z
UID:10000182-1791572400-1791730800@www.klosterstift-heiligengrabe.de
SUMMARY:Die Seele wärmen und die Farbe wirken lassen
DESCRIPTION:Herbstmalkurs\n\n\n\nWie spricht ein leuchtendes Orange zu mir? Wie empfinde ich ein hauchzartes Rosa? Was löst ein tiefes Nachtblau in mir aus? Fühle ich mich durch das Betrachten einer Farbe heiter oder mutig\, konzentriert oder einfach ruhig? Auf einem Farbspaziergang über das Klostergelände vertiefen wir unser Empfinden\, und tauschen uns über unser Erleben aus. An diesem Malwochenende schlagen wir unser großzügiges Atelier im Kapitelsaal auf. Unsere Farberfahrung setzen wir in Farbklang-Experimenten mit Gouache und farbigen Tuschen auf verschiedenen Papieren als Unikatdrucke um. Ziel ist der freudige\, neugierige\, vielleicht auch ungewohnte Blick auf Gewohntes und Bekanntes. Mittels einfacher\, selbst geschnittener Passepartouts werden wir die fertigen Blätter und Skizzen für eine Rahmung vorbereiten. \n\n\n\nBeginnFreitag 19:00 UhrEndeSonntag 15:00 UhrHerberge in der Abtei112 €Gästezimmer im Einkehrhaus56 €Vollverpflegung98 €Tagungsbeitrag150 €Teilnehmerzahlmind. 10\, max. 15Anmeldung bis zum24.09.2026\n\n\n\n\n\nLeitung\n\n\n\n\n\nVeranstaltungsort:\n\n\n\n\n\n\n\n\n\nAnmeldung zur Veranstaltung\n\n\n\n\n\n  \n\n\n\n Name & Vorname (Pflichtfeld)\n \n \n E-Mail-Adresse (Pflichtfeld)\n \n \n PLZ (Pflichtfeld)\n \n \n Ort (Pflichtfeld)\n \n \n Strasse & Hausnummer (Pflichtfeld)\n \n \n Telefonnummer (Pflichtfeld)\n \n \nUnterkunft wählen\n-keine Unterkunft benötigt-Herberge in der AbteiGästezimmer im Einkehrhaus\n \n Betreff\n \n \n Nachricht (optional)\n \n \nIch akzeptiere die AGB.\nIch akzeptiere die Datenschutzerklärung.
URL:https://www.klosterstift-heiligengrabe.de/seminar/die-seele-waermen-und-die-farbe-wirken-lassen-2/
LOCATION:Kloster Stift zum Heiligengrabe\, Stiftgelände 1\, Heiligengrabe\, 16909
CATEGORIES:Kultur und Kunst,Künstlerisches Gestalten
ATTACH;FMTTYPE=image/png:https://www.klosterstift-heiligengrabe.de/wp-content/uploads/Bild2.png
END:VEVENT
END:VCALENDAR