BEGIN:VCALENDAR
VERSION:2.0
PRODID:-//Kloster Stift zum Heiligengrabe - ECPv6.15.20//NONSGML v1.0//EN
CALSCALE:GREGORIAN
METHOD:PUBLISH
X-WR-CALNAME:Kloster Stift zum Heiligengrabe
X-ORIGINAL-URL:https://www.klosterstift-heiligengrabe.de
X-WR-CALDESC:Veranstaltungen für Kloster Stift zum Heiligengrabe
REFRESH-INTERVAL;VALUE=DURATION:PT1H
X-Robots-Tag:noindex
X-PUBLISHED-TTL:PT1H
BEGIN:VTIMEZONE
TZID:Europe/Berlin
BEGIN:DAYLIGHT
TZOFFSETFROM:+0100
TZOFFSETTO:+0200
TZNAME:CEST
DTSTART:20230326T010000
END:DAYLIGHT
BEGIN:STANDARD
TZOFFSETFROM:+0200
TZOFFSETTO:+0100
TZNAME:CET
DTSTART:20231029T010000
END:STANDARD
BEGIN:DAYLIGHT
TZOFFSETFROM:+0100
TZOFFSETTO:+0200
TZNAME:CEST
DTSTART:20240331T010000
END:DAYLIGHT
BEGIN:STANDARD
TZOFFSETFROM:+0200
TZOFFSETTO:+0100
TZNAME:CET
DTSTART:20241027T010000
END:STANDARD
BEGIN:DAYLIGHT
TZOFFSETFROM:+0100
TZOFFSETTO:+0200
TZNAME:CEST
DTSTART:20250330T010000
END:DAYLIGHT
BEGIN:STANDARD
TZOFFSETFROM:+0200
TZOFFSETTO:+0100
TZNAME:CET
DTSTART:20251026T010000
END:STANDARD
BEGIN:DAYLIGHT
TZOFFSETFROM:+0100
TZOFFSETTO:+0200
TZNAME:CEST
DTSTART:20260329T010000
END:DAYLIGHT
BEGIN:STANDARD
TZOFFSETFROM:+0200
TZOFFSETTO:+0100
TZNAME:CET
DTSTART:20261025T010000
END:STANDARD
END:VTIMEZONE
BEGIN:VEVENT
DTSTART;TZID=Europe/Berlin:20250912T170000
DTEND;TZID=Europe/Berlin:20250914T170000
DTSTAMP:20260420T002256
CREATED:20250117T140248Z
LAST-MODIFIED:20250512T080759Z
UID:10000147-1757696400-1757869200@www.klosterstift-heiligengrabe.de
SUMMARY:bereits ausgebucht - Entspannen\, zur Ruhe kommen\, sich stärken lassen
DESCRIPTION:Meditation\, Yoga und Atmen im Schweigen\n\n\n\n\n„Der Mensch kann Gott nichts Lieberes bieten\, als Ruhe…“ \n(Meister Eckhart)\n\n\n\nIm gegenstandsfreien Meditieren und meditativen Gehen\, im Kreuzgang und im Freien\, durch Yoga- und Atemübungen (Just Breath) und bei Andachten in der Kreuzgangkapelle kommen wir zur Ruhe\, werden gelassen und nehmen mit Gottes Hilfe unser Leben in Achtsamkeit an. Alles wird transparent für das »Herz der Dinge«\, für Gott. Die täglichen Betrachtungen sind der Meditation und dem von ihr geprägten\, religiösen Leben gewidmet. Das andauernde Schweigen an diesen Tagen befreit\, sammelt\, heilt und stärkt. \n\n\n\nBeginnFreitag 17:00 UhrEndeSonntag 17:00 UhrHerberge in der Abtei112 €Gästezimmer im Einkehrhaus56 €Vollverpflegung98 €Tagungsbeitrag140 €Teilnehmerzahlmind. 10\, max. 12Anmeldung bis zum22.08.2025\n\n\n\n\n\n\n\n\n\nLeitung:\n\n\n\n\n\nVeranstaltungsort:\n\n\n\n\n\n\n\nAnmeldung zur Veranstaltung\n\n\n\n\n\n  \n\n\n\n Name & Vorname (Pflichtfeld)\n \n \n E-Mail-Adresse (Pflichtfeld)\n \n \n PLZ (Pflichtfeld)\n \n \n Ort (Pflichtfeld)\n \n \n Strasse & Hausnummer (Pflichtfeld)\n \n \n Telefonnummer (Pflichtfeld)\n \n \nUnterkunft wählen\n-keine Unterkunft benötigt-Herberge in der AbteiGästezimmer im Einkehrhaus\n \n Betreff\n \n \n Nachricht (optional)\n \n \nIch akzeptiere die AGB.\nIch akzeptiere die Datenschutzerklärung.
URL:https://www.klosterstift-heiligengrabe.de/seminar/entspannen-zur-ruhe-kommen-sich-staerken-lassen-2/
LOCATION:Kloster Stift zum Heiligengrabe\, Stiftgelände 1\, Heiligengrabe\, 16909
CATEGORIES:Meditation | Yoga | Qi Gong
ATTACH;FMTTYPE=image/jpeg:https://www.klosterstift-heiligengrabe.de/wp-content/uploads/Gesundheitswoche2012-scaled.jpg
END:VEVENT
BEGIN:VEVENT
DTSTART;TZID=Europe/Berlin:20240913T170000
DTEND;TZID=Europe/Berlin:20240915T170000
DTSTAMP:20260420T002256
CREATED:20240116T105537Z
LAST-MODIFIED:20240508T091628Z
UID:10000113-1726246800-1726419600@www.klosterstift-heiligengrabe.de
SUMMARY:Entspannen\, zur Ruhe kommen\, sich stärken lassen - bereits ausgebucht
DESCRIPTION:Meditation\, Yoga und Atmen im Schweigen\n\n\n\n\n„Der Mensch kann Gott nichts Lieberes bieten\, als Ruhe…“ \n(Meister Eckhart)\n\n\n\nIm gegenstandsfreien Meditieren und meditativen Gehen\, im Kreuzgang und im Freien\, durch Yoga- und Atemübungen (Just Breath) – auch für Einsteiger möglich – und bei Andachten in der Kreuzgangkapelle kommen wir zur Ruhe\, werden gelassen und nehmen mit Gottes Hilfe unser Leben in Achtsamkeit an. Alles wird transparent für das »Herz der Dinge«\, für Gott. Die täglichen Betrachtungen sind der Meditation und dem von ihr geprägten\, religiösen Leben gewidmet. Das andauernde Schweigen an diesen Tagen befreit\, sammelt\, heilt und stärkt. \n\n\n\nBeginnFreitag 17:00 UhrEndeSonntag 17:00 UhrHerberge in der Abtei112 €Gästezimmer im Einkehrhaus56 €Vollverpflegung90 €Tagungsbeitrag140 €Teilnehmerzahlmind. 10\, max. 12Anmeldung bis zum30.08.2024\n\n\n\n\n\n\n\n\n\nLeitung:\n\n\n\n\n\nVeranstaltungsort:\n\n\n\n\n\n\n\nAnmeldung zur Veranstaltung\n\n\n\n\n\n  \n\n\n\n Name & Vorname (Pflichtfeld)\n \n \n E-Mail-Adresse (Pflichtfeld)\n \n \n PLZ (Pflichtfeld)\n \n \n Ort (Pflichtfeld)\n \n \n Strasse & Hausnummer (Pflichtfeld)\n \n \n Telefonnummer (Pflichtfeld)\n \n \nUnterkunft wählen\n-keine Unterkunft benötigt-Herberge in der AbteiGästezimmer im Einkehrhaus\n \n Betreff\n \n \n Nachricht (optional)\n \n \nIch akzeptiere die AGB.\nIch akzeptiere die Datenschutzerklärung.
URL:https://www.klosterstift-heiligengrabe.de/seminar/entspannen-zur-ruhe-kommen-sich-staerken-lassen/
LOCATION:Kloster Stift zum Heiligengrabe\, Stiftgelände 1\, Heiligengrabe\, 16909
CATEGORIES:Meditation | Yoga | Qi Gong
ATTACH;FMTTYPE=image/jpeg:https://www.klosterstift-heiligengrabe.de/wp-content/uploads/Gesundheitswoche2012-scaled.jpg
END:VEVENT
END:VCALENDAR