BEGIN:VCALENDAR
VERSION:2.0
PRODID:-//Kloster Stift zum Heiligengrabe - ECPv6.15.20//NONSGML v1.0//EN
CALSCALE:GREGORIAN
METHOD:PUBLISH
X-ORIGINAL-URL:https://www.klosterstift-heiligengrabe.de
X-WR-CALDESC:Veranstaltungen für Kloster Stift zum Heiligengrabe
REFRESH-INTERVAL;VALUE=DURATION:PT1H
X-Robots-Tag:noindex
X-PUBLISHED-TTL:PT1H
BEGIN:VTIMEZONE
TZID:Europe/Berlin
BEGIN:DAYLIGHT
TZOFFSETFROM:+0100
TZOFFSETTO:+0200
TZNAME:CEST
DTSTART:20250330T010000
END:DAYLIGHT
BEGIN:STANDARD
TZOFFSETFROM:+0200
TZOFFSETTO:+0100
TZNAME:CET
DTSTART:20251026T010000
END:STANDARD
BEGIN:DAYLIGHT
TZOFFSETFROM:+0100
TZOFFSETTO:+0200
TZNAME:CEST
DTSTART:20260329T010000
END:DAYLIGHT
BEGIN:STANDARD
TZOFFSETFROM:+0200
TZOFFSETTO:+0100
TZNAME:CET
DTSTART:20261025T010000
END:STANDARD
BEGIN:DAYLIGHT
TZOFFSETFROM:+0100
TZOFFSETTO:+0200
TZNAME:CEST
DTSTART:20270328T010000
END:DAYLIGHT
BEGIN:STANDARD
TZOFFSETFROM:+0200
TZOFFSETTO:+0100
TZNAME:CET
DTSTART:20271031T010000
END:STANDARD
END:VTIMEZONE
BEGIN:VEVENT
DTSTART;TZID=Europe/Berlin:20260911T180000
DTEND;TZID=Europe/Berlin:20260913T160000
DTSTAMP:20260419T194005
CREATED:20260113T132314Z
LAST-MODIFIED:20260326T102602Z
UID:10000178-1789149600-1789315200@www.klosterstift-heiligengrabe.de
SUMMARY:In diesem Workshop wird an einem Wochende das Weben am Webrahmen erlernt
DESCRIPTION:Schalwebkurs am Webrahmen\n\n\n\nDabei kann jede/r sich einen eigenen Schal weben\, ob in Wolle oder Seide\, bunt oder schwarz/weiß\, gestreift oder kariert. \n\n\n\nEs wird mit unterschiedlichen Garnen eine Kette gespannt und das Weben mit der Webnadel und dem Gatterkamm erprobt. Zum Abschluss kann noch zwischen Saum und Fransen entschieden werden. \n\n\n\nMitzubringen sind\, wenn vorhanden\, eigene Garne\, eine Schere und gerne auch ein eigener Webrahmen. \n\n\n\nBeginnFreitag\, 18:00 Uhr mit dem AbendgebetEndeSonntag\, 16:00 UhrHerberge in der Abtei112 €Gästezimmer im Einkehrhaus56 €Vollverpflegung106 €Tagungsbeitrag210 € (Material kann im Kurs käuflich erworben werden)Teilnehmerzahlmax. 6Anmeldung bis zum27.08.2026\n\n\n\n\n\nLeitung:\n\n\n\n\n\nVeranstaltungsort:\n\n\n\n\n\n\n\n\n\nAnmeldung zur Veranstaltung\n\n\n\n\n\n  \n\n\n\n Name & Vorname (Pflichtfeld)\n \n \n E-Mail-Adresse (Pflichtfeld)\n \n \n PLZ (Pflichtfeld)\n \n \n Ort (Pflichtfeld)\n \n \n Strasse & Hausnummer (Pflichtfeld)\n \n \n Telefonnummer (Pflichtfeld)\n \n \nUnterkunft wählen\n-keine Unterkunft benötigt-Herberge in der AbteiGästezimmer im Einkehrhaus\n \n Betreff\n \n \n Nachricht (optional)\n \n \nIch akzeptiere die AGB.\nIch akzeptiere die Datenschutzerklärung.
URL:https://www.klosterstift-heiligengrabe.de/seminar/in-diesem-workshop-wird-an-einem-wochende-das-weben-am-webrahmen-erlernt/
LOCATION:Kloster Stift zum Heiligengrabe\, Stiftgelände 1\, Heiligengrabe\, 16909
CATEGORIES:Kultur und Kunst,Künstlerisches Gestalten
ATTACH;FMTTYPE=image/jpeg:https://www.klosterstift-heiligengrabe.de/wp-content/uploads/IMG_9017-.1--scaled.jpg
END:VEVENT
END:VCALENDAR